BEGIN:VCALENDAR
PRODID:-//iohelix.net//SYMANTEC PTO CALENDAR FEED//EN
METHOD:PUBLISH
VERSION:2.0
CALSCALE:GREGORIAN
X-WR-TIMEZONE:America/Denver
BEGIN:VTIMEZONE
TZID:America/Denver
X-LIC-LOCATION:America/Denver
UID:20260421T211117-911412846-iohelix.net
DTSTAMP:20260421T211117Z
BEGIN:DAYLIGHT
TZOFFSETFROM:-0700
TZOFFSETTO:-0600
TZNAME:MDT
DTSTART:19700308T020000
RRULE:FREQ=YEARLY;BYMONTH=3;BYDAY=2SU
END:DAYLIGHT
BEGIN:STANDARD
TZOFFSETFROM:-0600
TZOFFSETTO:-0700
TZNAME:MST
DTSTART:19701101T020000
RRULE:FREQ=YEARLY;BYMONTH=11;BYDAY=1SU
END:STANDARD
END:VTIMEZONE
BEGIN:VEVENT
DTSTART;VALUE=DATE:20000101
DTEND;VALUE=DATE:20000102
RRULE:FREQ=YEARLY
SUMMARY:New Year's Day
END:VEVENT
BEGIN:VEVENT
DTSTART;VALUE=DATE:20230102
DTEND;VALUE=DATE:20230103
SUMMARY:New Year's Day Observed
END:VEVENT
BEGIN:VEVENT
DTSTART;VALUE=DATE:20280103
DTEND;VALUE=DATE:20280104
SUMMARY:New Year's Day Observed
END:VEVENT
BEGIN:VEVENT
DTSTART;VALUE=DATE:20330103
DTEND;VALUE=DATE:20330104
SUMMARY:New Year's Day Observed
END:VEVENT
BEGIN:VEVENT
DTSTART;VALUE=DATE:20340102
DTEND;VALUE=DATE:20340103
SUMMARY:New Year's Day Observed
END:VEVENT
BEGIN:VEVENT
DTSTART;VALUE=DATE:20000117
DTEND;VALUE=DATE:20000118
RRULE:FREQ=MONTHLY;INTERVAL=12;BYDAY=3MO
SUMMARY:Martin Luther King Jr. Day
END:VEVENT
BEGIN:VEVENT
DTSTART;VALUE=DATE:20000221
DTEND;VALUE=DATE:20000222
RRULE:FREQ=MONTHLY;INTERVAL=12;BYDAY=3MO
SUMMARY:Presidents' Day
END:VEVENT
BEGIN:VEVENT
DTSTART;VALUE=DATE:20000529
DTEND;VALUE=DATE:20000530
RRULE:FREQ=MONTHLY;INTERVAL=12;BYDAY=-1MO
SUMMARY:Memorial Day
END:VEVENT
BEGIN:VEVENT
DTSTART;VALUE=DATE:20000704
DTEND;VALUE=DATE:20000705
RRULE:FREQ=YEARLY
SUMMARY:Independence Day
END:VEVENT
BEGIN:VEVENT
DTSTART;VALUE=DATE:20260703
DTEND;VALUE=DATE:20260704
SUMMARY:Independence Day Observed
END:VEVENT
BEGIN:VEVENT
DTSTART;VALUE=DATE:20270705
DTEND;VALUE=DATE:20270706
SUMMARY:Independence Day Observed
END:VEVENT
BEGIN:VEVENT
DTSTART;VALUE=DATE:20320705
DTEND;VALUE=DATE:20320706
SUMMARY:Independence Day Observed
END:VEVENT
BEGIN:VEVENT
DTSTART;VALUE=DATE:20000904
DTEND;VALUE=DATE:20000905
RRULE:FREQ=MONTHLY;INTERVAL=12;BYDAY=1MO
SUMMARY:Labor Day
END:VEVENT
BEGIN:VEVENT
DTSTART;VALUE=DATE:20001111
DTEND;VALUE=DATE:20001112
RRULE:FREQ=YEARLY
SUMMARY:Veterans Day
END:VEVENT
BEGIN:VEVENT
DTSTART;VALUE=DATE:20231110
DTEND;VALUE=DATE:20231111
SUMMARY:Veterans Day Observed
END:VEVENT
BEGIN:VEVENT
DTSTART;VALUE=DATE:20281110
DTEND;VALUE=DATE:20281111
SUMMARY:Veterans Day Observed
END:VEVENT
BEGIN:VEVENT
DTSTART;VALUE=DATE:20291112
DTEND;VALUE=DATE:20291113
SUMMARY:Veterans Day Observed
END:VEVENT
BEGIN:VEVENT
DTSTART;VALUE=DATE:20341110
DTEND;VALUE=DATE:20341111
SUMMARY:Veterans Day Observed
END:VEVENT
BEGIN:VEVENT
DTSTART;VALUE=DATE:20351112
DTEND;VALUE=DATE:20351113
SUMMARY:Veterans Day Observed
END:VEVENT
BEGIN:VEVENT
DTSTART;VALUE=DATE:20001123
DTEND;VALUE=DATE:20001124
RRULE:FREQ=MONTHLY;INTERVAL=12;BYDAY=4TH
SUMMARY:Thanksgiving Day
END:VEVENT
BEGIN:VEVENT
DTSTART;VALUE=DATE:20001224
DTEND;VALUE=DATE:20001225
RRULE:FREQ=YEARLY
SUMMARY:Christmas Eve
END:VEVENT
BEGIN:VEVENT
DTSTART;VALUE=DATE:20231222
DTEND;VALUE=DATE:20231223
SUMMARY:Christmas Eve Observed
END:VEVENT
BEGIN:VEVENT
DTSTART;VALUE=DATE:20281222
DTEND;VALUE=DATE:20281223
SUMMARY:Christmas Eve Observed
END:VEVENT
BEGIN:VEVENT
DTSTART;VALUE=DATE:20331223
DTEND;VALUE=DATE:20331224
SUMMARY:Christmas Eve Observed
END:VEVENT
BEGIN:VEVENT
DTSTART;VALUE=DATE:20341222
DTEND;VALUE=DATE:20341223
SUMMARY:Christmas Eve Observed
END:VEVENT
BEGIN:VEVENT
DTSTART;VALUE=DATE:20001225
DTEND;VALUE=DATE:20001226
RRULE:FREQ=YEARLY
SUMMARY:Christmas Day
END:VEVENT
BEGIN:VEVENT
DTSTART;VALUE=DATE:20271227
DTEND;VALUE=DATE:20271228
SUMMARY:Christmas Day Observed
END:VEVENT
BEGIN:VEVENT
DTSTART;VALUE=DATE:20321227
DTEND;VALUE=DATE:20321228
SUMMARY:Christmas Day Observed
END:VEVENT
BEGIN:VEVENT
DTSTART;VALUE=DATE:20331226
DTEND;VALUE=DATE:20331227
SUMMARY:Christmas Day Observed
END:VEVENT
BEGIN:VEVENT
DTSTART;VALUE=DATE:20001231
DTEND;VALUE=DATE:20010101
RRULE:FREQ=YEARLY
SUMMARY:New Year's Eve
END:VEVENT
BEGIN:VEVENT
DTSTART;VALUE=DATE:20231229
DTEND;VALUE=DATE:20231230
SUMMARY:New Year's Eve Observed
END:VEVENT
BEGIN:VEVENT
DTSTART;VALUE=DATE:20281229
DTEND;VALUE=DATE:20281230
SUMMARY:New Year's Eve Observed
END:VEVENT
BEGIN:VEVENT
DTSTART;VALUE=DATE:20331230
DTEND;VALUE=DATE:20331231
SUMMARY:New Year's Eve Observed
END:VEVENT
BEGIN:VEVENT
DTSTART;VALUE=DATE:20341229
DTEND;VALUE=DATE:20341230
SUMMARY:New Year's Eve Observed
END:VEVENT
BEGIN:VEVENT
DTSTART;VALUE=DATE:20231124
DTEND;VALUE=DATE:20231125
SUMMARY:Black Friday
END:VEVENT
BEGIN:VEVENT
DTSTART;VALUE=DATE:20241129
DTEND;VALUE=DATE:20241130
SUMMARY:Black Friday
END:VEVENT
BEGIN:VEVENT
DTSTART;VALUE=DATE:20251128
DTEND;VALUE=DATE:20251129
SUMMARY:Black Friday
END:VEVENT
BEGIN:VEVENT
DTSTART;VALUE=DATE:20261127
DTEND;VALUE=DATE:20261128
SUMMARY:Black Friday
END:VEVENT
BEGIN:VEVENT
DTSTART;VALUE=DATE:20271126
DTEND;VALUE=DATE:20271127
SUMMARY:Black Friday
END:VEVENT
BEGIN:VEVENT
DTSTART;VALUE=DATE:20281124
DTEND;VALUE=DATE:20281125
SUMMARY:Black Friday
END:VEVENT
BEGIN:VEVENT
DTSTART;VALUE=DATE:20291123
DTEND;VALUE=DATE:20291124
SUMMARY:Black Friday
END:VEVENT
BEGIN:VEVENT
DTSTART;VALUE=DATE:20301129
DTEND;VALUE=DATE:20301130
SUMMARY:Black Friday
END:VEVENT
BEGIN:VEVENT
DTSTART;VALUE=DATE:20311128
DTEND;VALUE=DATE:20311129
SUMMARY:Black Friday
END:VEVENT
BEGIN:VEVENT
DTSTART;VALUE=DATE:20321126
DTEND;VALUE=DATE:20321127
SUMMARY:Black Friday
END:VEVENT
BEGIN:VEVENT
DTSTART;VALUE=DATE:20331125
DTEND;VALUE=DATE:20331126
SUMMARY:Black Friday
END:VEVENT
BEGIN:VEVENT
DTSTART;VALUE=DATE:20341124
DTEND;VALUE=DATE:20341125
SUMMARY:Black Friday
END:VEVENT
BEGIN:VEVENT
DTSTART;VALUE=DATE:20351123
DTEND;VALUE=DATE:20351124
SUMMARY:Black Friday
END:VEVENT
END:VCALENDAR
