BEGIN:VCALENDAR
PRODID:-//iohelix.net//DAZ PTO CALENDAR FEED//EN
METHOD:PUBLISH
VERSION:2.0
CALSCALE:GREGORIAN
X-WR-TIMEZONE:America/Denver
BEGIN:VTIMEZONE
TZID:America/Denver
X-LIC-LOCATION:America/Denver
UID:20260421T211118-1271926781-iohelix.net
DTSTAMP:20260421T211118Z
BEGIN:DAYLIGHT
TZOFFSETFROM:-0700
TZOFFSETTO:-0600
TZNAME:MDT
DTSTART:19700308T020000
RRULE:FREQ=YEARLY;BYMONTH=3;BYDAY=2SU
END:DAYLIGHT
BEGIN:STANDARD
TZOFFSETFROM:-0600
TZOFFSETTO:-0700
TZNAME:MST
DTSTART:19701101T020000
RRULE:FREQ=YEARLY;BYMONTH=11;BYDAY=1SU
END:STANDARD
END:VTIMEZONE
BEGIN:VEVENT
DTSTART;VALUE=DATE:20000101
DTEND;VALUE=DATE:20000102
RRULE:FREQ=YEARLY
SUMMARY:New Year's Day
END:VEVENT
BEGIN:VEVENT
DTSTART;VALUE=DATE:20230102
DTEND;VALUE=DATE:20230103
SUMMARY:New Year's Day Observed
END:VEVENT
BEGIN:VEVENT
DTSTART;VALUE=DATE:20271231
DTEND;VALUE=DATE:20280101
SUMMARY:New Year's Day Observed
END:VEVENT
BEGIN:VEVENT
DTSTART;VALUE=DATE:20321231
DTEND;VALUE=DATE:20330101
SUMMARY:New Year's Day Observed
END:VEVENT
BEGIN:VEVENT
DTSTART;VALUE=DATE:20340102
DTEND;VALUE=DATE:20340103
SUMMARY:New Year's Day Observed
END:VEVENT
BEGIN:VEVENT
DTSTART;VALUE=DATE:20000529
DTEND;VALUE=DATE:20000530
RRULE:FREQ=MONTHLY;INTERVAL=12;BYDAY=-1MO
SUMMARY:Memorial Day
END:VEVENT
BEGIN:VEVENT
DTSTART;VALUE=DATE:20000704
DTEND;VALUE=DATE:20000705
RRULE:FREQ=YEARLY
SUMMARY:Independence Day
END:VEVENT
BEGIN:VEVENT
DTSTART;VALUE=DATE:20260703
DTEND;VALUE=DATE:20260704
SUMMARY:Independence Day Observed
END:VEVENT
BEGIN:VEVENT
DTSTART;VALUE=DATE:20270705
DTEND;VALUE=DATE:20270706
SUMMARY:Independence Day Observed
END:VEVENT
BEGIN:VEVENT
DTSTART;VALUE=DATE:20320705
DTEND;VALUE=DATE:20320706
SUMMARY:Independence Day Observed
END:VEVENT
BEGIN:VEVENT
DTSTART;VALUE=DATE:20000724
DTEND;VALUE=DATE:20000725
RRULE:FREQ=YEARLY
SUMMARY:Pioneer Day
END:VEVENT
BEGIN:VEVENT
DTSTART;VALUE=DATE:20270723
DTEND;VALUE=DATE:20270724
SUMMARY:Pioneer Day Observed
END:VEVENT
BEGIN:VEVENT
DTSTART;VALUE=DATE:20320723
DTEND;VALUE=DATE:20320724
SUMMARY:Pioneer Day Observed
END:VEVENT
BEGIN:VEVENT
DTSTART;VALUE=DATE:20330725
DTEND;VALUE=DATE:20330726
SUMMARY:Pioneer Day Observed
END:VEVENT
BEGIN:VEVENT
DTSTART;VALUE=DATE:20000904
DTEND;VALUE=DATE:20000905
RRULE:FREQ=MONTHLY;INTERVAL=12;BYDAY=1MO
SUMMARY:Labor Day
END:VEVENT
BEGIN:VEVENT
DTSTART;VALUE=DATE:20001123
DTEND;VALUE=DATE:20001124
RRULE:FREQ=MONTHLY;INTERVAL=12;BYDAY=4TH
SUMMARY:Thanksgiving Day
END:VEVENT
BEGIN:VEVENT
DTSTART;VALUE=DATE:20001124
DTEND;VALUE=DATE:20001125
SUMMARY:Black Friday
END:VEVENT
BEGIN:VEVENT
DTSTART;VALUE=DATE:20001224
DTEND;VALUE=DATE:20001225
RRULE:FREQ=YEARLY
SUMMARY:Christmas Eve
END:VEVENT
BEGIN:VEVENT
DTSTART;VALUE=DATE:20231225
DTEND;VALUE=DATE:20231226
SUMMARY:Christmas Eve Observed
END:VEVENT
BEGIN:VEVENT
DTSTART;VALUE=DATE:20261223
DTEND;VALUE=DATE:20261224
SUMMARY:Christmas Eve Observed
END:VEVENT
BEGIN:VEVENT
DTSTART;VALUE=DATE:20271223
DTEND;VALUE=DATE:20271224
SUMMARY:Christmas Eve Observed
END:VEVENT
BEGIN:VEVENT
DTSTART;VALUE=DATE:20281225
DTEND;VALUE=DATE:20281226
SUMMARY:Christmas Eve Observed
END:VEVENT
BEGIN:VEVENT
DTSTART;VALUE=DATE:20321223
DTEND;VALUE=DATE:20321224
SUMMARY:Christmas Eve Observed
END:VEVENT
BEGIN:VEVENT
DTSTART;VALUE=DATE:20331223
DTEND;VALUE=DATE:20331224
SUMMARY:Christmas Eve Observed
END:VEVENT
BEGIN:VEVENT
DTSTART;VALUE=DATE:20341225
DTEND;VALUE=DATE:20341226
SUMMARY:Christmas Eve Observed
END:VEVENT
BEGIN:VEVENT
DTSTART;VALUE=DATE:20001225
DTEND;VALUE=DATE:20001226
RRULE:FREQ=YEARLY
SUMMARY:Christmas Day
END:VEVENT
BEGIN:VEVENT
DTSTART;VALUE=DATE:20231226
DTEND;VALUE=DATE:20231227
SUMMARY:Christmas Day Observed
END:VEVENT
BEGIN:VEVENT
DTSTART;VALUE=DATE:20261224
DTEND;VALUE=DATE:20261225
SUMMARY:Christmas Day Observed
END:VEVENT
BEGIN:VEVENT
DTSTART;VALUE=DATE:20271224
DTEND;VALUE=DATE:20271225
SUMMARY:Christmas Day Observed
END:VEVENT
BEGIN:VEVENT
DTSTART;VALUE=DATE:20281226
DTEND;VALUE=DATE:20281227
SUMMARY:Christmas Day Observed
END:VEVENT
BEGIN:VEVENT
DTSTART;VALUE=DATE:20321224
DTEND;VALUE=DATE:20321225
SUMMARY:Christmas Day Observed
END:VEVENT
BEGIN:VEVENT
DTSTART;VALUE=DATE:20331226
DTEND;VALUE=DATE:20331227
SUMMARY:Christmas Day Observed
END:VEVENT
BEGIN:VEVENT
DTSTART;VALUE=DATE:20341226
DTEND;VALUE=DATE:20341227
SUMMARY:Christmas Day Observed
END:VEVENT
BEGIN:VEVENT
DTSTART;VALUE=DATE:20001226
DTEND;VALUE=DATE:20001227
RRULE:FREQ=YEARLY
SUMMARY:Christmas Break
END:VEVENT
BEGIN:VEVENT
DTSTART;VALUE=DATE:20231227
DTEND;VALUE=DATE:20231228
SUMMARY:Christmas Break Observed
END:VEVENT
BEGIN:VEVENT
DTSTART;VALUE=DATE:20261225
DTEND;VALUE=DATE:20261226
SUMMARY:Christmas Break Observed
END:VEVENT
BEGIN:VEVENT
DTSTART;VALUE=DATE:20271227
DTEND;VALUE=DATE:20271228
SUMMARY:Christmas Break Observed
END:VEVENT
BEGIN:VEVENT
DTSTART;VALUE=DATE:20281227
DTEND;VALUE=DATE:20281228
SUMMARY:Christmas Break Observed
END:VEVENT
BEGIN:VEVENT
DTSTART;VALUE=DATE:20321227
DTEND;VALUE=DATE:20321228
SUMMARY:Christmas Break Observed
END:VEVENT
BEGIN:VEVENT
DTSTART;VALUE=DATE:20331227
DTEND;VALUE=DATE:20331228
SUMMARY:Christmas Break Observed
END:VEVENT
BEGIN:VEVENT
DTSTART;VALUE=DATE:20341227
DTEND;VALUE=DATE:20341228
SUMMARY:Christmas Break Observed
END:VEVENT
BEGIN:VEVENT
DTSTART;VALUE=DATE:20230407
DTEND;VALUE=DATE:20230408
SUMMARY:Good Friday
END:VEVENT
BEGIN:VEVENT
DTSTART;VALUE=DATE:20240329
DTEND;VALUE=DATE:20240330
SUMMARY:Good Friday
END:VEVENT
BEGIN:VEVENT
DTSTART;VALUE=DATE:20250418
DTEND;VALUE=DATE:20250419
SUMMARY:Good Friday
END:VEVENT
BEGIN:VEVENT
DTSTART;VALUE=DATE:20260403
DTEND;VALUE=DATE:20260404
SUMMARY:Good Friday
END:VEVENT
BEGIN:VEVENT
DTSTART;VALUE=DATE:20270326
DTEND;VALUE=DATE:20270327
SUMMARY:Good Friday
END:VEVENT
BEGIN:VEVENT
DTSTART;VALUE=DATE:20280414
DTEND;VALUE=DATE:20280415
SUMMARY:Good Friday
END:VEVENT
BEGIN:VEVENT
DTSTART;VALUE=DATE:20290330
DTEND;VALUE=DATE:20290331
SUMMARY:Good Friday
END:VEVENT
BEGIN:VEVENT
DTSTART;VALUE=DATE:20300419
DTEND;VALUE=DATE:20300420
SUMMARY:Good Friday
END:VEVENT
BEGIN:VEVENT
DTSTART;VALUE=DATE:20310411
DTEND;VALUE=DATE:20310412
SUMMARY:Good Friday
END:VEVENT
BEGIN:VEVENT
DTSTART;VALUE=DATE:20320326
DTEND;VALUE=DATE:20320327
SUMMARY:Good Friday
END:VEVENT
BEGIN:VEVENT
DTSTART;VALUE=DATE:20330415
DTEND;VALUE=DATE:20330416
SUMMARY:Good Friday
END:VEVENT
BEGIN:VEVENT
DTSTART;VALUE=DATE:20340407
DTEND;VALUE=DATE:20340408
SUMMARY:Good Friday
END:VEVENT
BEGIN:VEVENT
DTSTART;VALUE=DATE:20350323
DTEND;VALUE=DATE:20350324
SUMMARY:Good Friday
END:VEVENT
END:VCALENDAR
