BEGIN:VCALENDAR
PRODID:-//iohelix.net//ADOBE PTO CALENDAR FEED//EN
METHOD:PUBLISH
VERSION:2.0
CALSCALE:GREGORIAN
X-WR-TIMEZONE:America/Denver
BEGIN:VTIMEZONE
TZID:America/Denver
X-LIC-LOCATION:America/Denver
UID:20260421T211305-2019050987-iohelix.net
DTSTAMP:20260421T211305Z
BEGIN:DAYLIGHT
TZOFFSETFROM:-0700
TZOFFSETTO:-0600
TZNAME:MDT
DTSTART:19700308T020000
RRULE:FREQ=YEARLY;BYMONTH=3;BYDAY=2SU
END:DAYLIGHT
BEGIN:STANDARD
TZOFFSETFROM:-0600
TZOFFSETTO:-0700
TZNAME:MST
DTSTART:19701101T020000
RRULE:FREQ=YEARLY;BYMONTH=11;BYDAY=1SU
END:STANDARD
END:VTIMEZONE
BEGIN:VEVENT
DTSTART;VALUE=DATE:20200101
DTEND;VALUE=DATE:20200102
RRULE:FREQ=YEARLY
SUMMARY:New Year's Day
UID:1c19c9df-19f7-4671-b650-0d1cc708cc09
END:VEVENT
BEGIN:VEVENT
DTSTART;VALUE=DATE:20230102
DTEND;VALUE=DATE:20230103
SUMMARY:New Year's Day Observed
UID:051fd823-317f-4920-b491-d65bf0b39e66
END:VEVENT
BEGIN:VEVENT
DTSTART;VALUE=DATE:20280103
DTEND;VALUE=DATE:20280104
SUMMARY:New Year's Day Observed
UID:ae06fd50-4bb7-4eca-b03c-fbd2c040b199
END:VEVENT
BEGIN:VEVENT
DTSTART;VALUE=DATE:20330103
DTEND;VALUE=DATE:20330104
SUMMARY:New Year's Day Observed
UID:1076b646-8c5f-4b00-8b9f-a9037c8cf3fd
END:VEVENT
BEGIN:VEVENT
DTSTART;VALUE=DATE:20340102
DTEND;VALUE=DATE:20340103
SUMMARY:New Year's Day Observed
UID:cdcc9790-58dc-4823-ad1f-b47bf26405f7
END:VEVENT
BEGIN:VEVENT
DTSTART;VALUE=DATE:20000117
DTEND;VALUE=DATE:20000118
RRULE:FREQ=MONTHLY;INTERVAL=12;BYDAY=3MO
SUMMARY:Martin Luther King Jr. Day
UID:410a50b8-5830-41a3-975c-672d7444887b
END:VEVENT
BEGIN:VEVENT
DTSTART;VALUE=DATE:20000221
DTEND;VALUE=DATE:20000222
RRULE:FREQ=MONTHLY;INTERVAL=12;BYDAY=3MO
SUMMARY:Presidents' Day
UID:1934a126-8ecb-43fe-9160-9fd72744c5b5
END:VEVENT
BEGIN:VEVENT
DTSTART;VALUE=DATE:20000529
DTEND;VALUE=DATE:20000530
RRULE:FREQ=MONTHLY;INTERVAL=12;BYDAY=-1MO
SUMMARY:Memorial Day
UID:371bb732-c84f-4210-a8a4-23dd41f1290a
END:VEVENT
BEGIN:VEVENT
DTSTART;VALUE=DATE:20200703
DTEND;VALUE=DATE:20200704
RRULE:FREQ=YEARLY
SUMMARY:Summer Holiday
UID:5b0258e9-840b-408b-84e6-8836fb223f2b
END:VEVENT
BEGIN:VEVENT
DTSTART;VALUE=DATE:20270702
DTEND;VALUE=DATE:20270703
SUMMARY:Summer Holiday Observed
UID:a46b606b-8bae-439a-ae74-2787714a43e8
END:VEVENT
BEGIN:VEVENT
DTSTART;VALUE=DATE:20320702
DTEND;VALUE=DATE:20320703
SUMMARY:Summer Holiday Observed
UID:f9454292-f53f-48f0-9c95-b496365520b7
END:VEVENT
BEGIN:VEVENT
DTSTART;VALUE=DATE:20330704
DTEND;VALUE=DATE:20330705
SUMMARY:Summer Holiday Observed
UID:3506926e-4a44-413f-aa28-db10249c4317
END:VEVENT
BEGIN:VEVENT
DTSTART;VALUE=DATE:20200704
DTEND;VALUE=DATE:20200705
RRULE:FREQ=YEARLY
SUMMARY:Independence Day
UID:c3a87f82-f90f-4242-9648-09879be075e3
END:VEVENT
BEGIN:VEVENT
DTSTART;VALUE=DATE:20260703
DTEND;VALUE=DATE:20260704
SUMMARY:Independence Day Observed
UID:459b78ef-2706-43ea-a1b0-951ae504fd81
END:VEVENT
BEGIN:VEVENT
DTSTART;VALUE=DATE:20270705
DTEND;VALUE=DATE:20270706
SUMMARY:Independence Day Observed
UID:a3ee123b-00a9-47b7-bd89-452042b9f3ba
END:VEVENT
BEGIN:VEVENT
DTSTART;VALUE=DATE:20320705
DTEND;VALUE=DATE:20320706
SUMMARY:Independence Day Observed
UID:47521c66-1e61-4306-8b15-486354817283
END:VEVENT
BEGIN:VEVENT
DTSTART;VALUE=DATE:20000904
DTEND;VALUE=DATE:20000905
RRULE:FREQ=MONTHLY;INTERVAL=12;BYDAY=1MO
SUMMARY:Labor Day
UID:e9794d66-7ac2-4ba1-ba09-f2688c3da5a0
END:VEVENT
BEGIN:VEVENT
DTSTART;VALUE=DATE:20001123
DTEND;VALUE=DATE:20001124
RRULE:FREQ=MONTHLY;INTERVAL=12;BYDAY=4TH
SUMMARY:Thanksgiving Day
UID:9d265fd6-ebbd-4e3d-b0f1-315287ebc9a0
END:VEVENT
BEGIN:VEVENT
DTSTART;VALUE=DATE:20201224
DTEND;VALUE=DATE:20201225
RRULE:FREQ=YEARLY
SUMMARY:Christmas Eve
UID:5a512480-21c5-48ef-9f68-3820cd69348b
END:VEVENT
BEGIN:VEVENT
DTSTART;VALUE=DATE:20231222
DTEND;VALUE=DATE:20231223
SUMMARY:Christmas Eve Observed
UID:1a7a6a4c-64a8-45ad-9e37-6d33760f12b2
END:VEVENT
BEGIN:VEVENT
DTSTART;VALUE=DATE:20281222
DTEND;VALUE=DATE:20281223
SUMMARY:Christmas Eve Observed
UID:f6addc54-6f4c-4c17-af8f-4325b97cc1d6
END:VEVENT
BEGIN:VEVENT
DTSTART;VALUE=DATE:20331223
DTEND;VALUE=DATE:20331224
SUMMARY:Christmas Eve Observed
UID:19653482-f8ef-43a2-bfc2-2f00290fe920
END:VEVENT
BEGIN:VEVENT
DTSTART;VALUE=DATE:20341222
DTEND;VALUE=DATE:20341223
SUMMARY:Christmas Eve Observed
UID:ddd7b1ac-75ec-4064-857a-4183e8da33db
END:VEVENT
BEGIN:VEVENT
DTSTART;VALUE=DATE:20201225
DTEND;VALUE=DATE:20201226
RRULE:FREQ=YEARLY
SUMMARY:Christmas Day
UID:e790847f-872d-4239-8349-34448bf1810a
END:VEVENT
BEGIN:VEVENT
DTSTART;VALUE=DATE:20271227
DTEND;VALUE=DATE:20271228
SUMMARY:Christmas Day Observed
UID:5ef7ae29-c14f-4488-9192-311d3b9b86cb
END:VEVENT
BEGIN:VEVENT
DTSTART;VALUE=DATE:20321227
DTEND;VALUE=DATE:20321228
SUMMARY:Christmas Day Observed
UID:22ccb002-276b-4b0b-ac1e-f392b561293d
END:VEVENT
BEGIN:VEVENT
DTSTART;VALUE=DATE:20331226
DTEND;VALUE=DATE:20331227
SUMMARY:Christmas Day Observed
UID:6231c70e-161c-45b8-b4d1-2c904a6a64a2
END:VEVENT
BEGIN:VEVENT
DTSTART;VALUE=DATE:20201231
DTEND;VALUE=DATE:20210101
RRULE:FREQ=YEARLY
SUMMARY:New Year's Eve
UID:6ee19938-febb-47f8-8b36-3a40413be96a
END:VEVENT
BEGIN:VEVENT
DTSTART;VALUE=DATE:20231229
DTEND;VALUE=DATE:20231230
SUMMARY:New Year's Eve Observed
UID:8a6ba1a4-d9f8-4ae1-8c0b-8a3aae7b436a
END:VEVENT
BEGIN:VEVENT
DTSTART;VALUE=DATE:20281229
DTEND;VALUE=DATE:20281230
SUMMARY:New Year's Eve Observed
UID:40057c14-c8ca-4270-b79a-3dfcb952cfe4
END:VEVENT
BEGIN:VEVENT
DTSTART;VALUE=DATE:20331230
DTEND;VALUE=DATE:20331231
SUMMARY:New Year's Eve Observed
UID:bf4921eb-4121-4d96-b80d-05b7438cde33
END:VEVENT
BEGIN:VEVENT
DTSTART;VALUE=DATE:20341229
DTEND;VALUE=DATE:20341230
SUMMARY:New Year's Eve Observed
UID:333334ba-fe8c-498e-8f37-f5e6516b14b6
END:VEVENT
BEGIN:VEVENT
DTSTART;VALUE=DATE:20231124
DTEND;VALUE=DATE:20231125
SUMMARY:Black Friday
UID:ff4d1fd4-f5bf-4e37-b575-d0936f4455f1
END:VEVENT
BEGIN:VEVENT
DTSTART;VALUE=DATE:20241129
DTEND;VALUE=DATE:20241130
SUMMARY:Black Friday
UID:68a4caca-f9c5-4274-8bcd-44e8cb487c92
END:VEVENT
BEGIN:VEVENT
DTSTART;VALUE=DATE:20251128
DTEND;VALUE=DATE:20251129
SUMMARY:Black Friday
UID:206df110-433c-4fb4-a5f9-aaf011d48124
END:VEVENT
BEGIN:VEVENT
DTSTART;VALUE=DATE:20261127
DTEND;VALUE=DATE:20261128
SUMMARY:Black Friday
UID:573569f1-fc84-4d7a-be0f-91e6369f464b
END:VEVENT
BEGIN:VEVENT
DTSTART;VALUE=DATE:20271126
DTEND;VALUE=DATE:20271127
SUMMARY:Black Friday
UID:bcf74ae5-4d1a-432e-a94a-b4c82b26c1b4
END:VEVENT
BEGIN:VEVENT
DTSTART;VALUE=DATE:20281124
DTEND;VALUE=DATE:20281125
SUMMARY:Black Friday
UID:f5916cf3-cf3e-4d57-8540-73d8adb0e957
END:VEVENT
BEGIN:VEVENT
DTSTART;VALUE=DATE:20291123
DTEND;VALUE=DATE:20291124
SUMMARY:Black Friday
UID:09ca1cc4-8665-4593-bc56-44489139d64d
END:VEVENT
BEGIN:VEVENT
DTSTART;VALUE=DATE:20301129
DTEND;VALUE=DATE:20301130
SUMMARY:Black Friday
UID:bdf124c8-bc8e-4915-b802-217b0cfd8db4
END:VEVENT
BEGIN:VEVENT
DTSTART;VALUE=DATE:20311128
DTEND;VALUE=DATE:20311129
SUMMARY:Black Friday
UID:5d1398e7-ff6b-4b54-9760-6396582ed94e
END:VEVENT
BEGIN:VEVENT
DTSTART;VALUE=DATE:20321126
DTEND;VALUE=DATE:20321127
SUMMARY:Black Friday
UID:83cdda0c-9119-45c4-96ef-571a23e96445
END:VEVENT
BEGIN:VEVENT
DTSTART;VALUE=DATE:20331125
DTEND;VALUE=DATE:20331126
SUMMARY:Black Friday
UID:acec3aa7-f1f4-4e3f-9cfc-0dd3473b191e
END:VEVENT
BEGIN:VEVENT
DTSTART;VALUE=DATE:20341124
DTEND;VALUE=DATE:20341125
SUMMARY:Black Friday
UID:71032046-ec22-4df4-b97b-7b37da236810
END:VEVENT
BEGIN:VEVENT
DTSTART;VALUE=DATE:20351123
DTEND;VALUE=DATE:20351124
SUMMARY:Black Friday
UID:f7dd21a2-2a11-488b-982d-17a6ee6539d6
END:VEVENT
BEGIN:VEVENT
DTSTART;VALUE=DATE:20230703
DTEND;VALUE=DATE:20230708
SUMMARY:Summer Break
UID:40285d75-922c-4063-9231-9741ed5f60ee
END:VEVENT
BEGIN:VEVENT
DTSTART;VALUE=DATE:20240701
DTEND;VALUE=DATE:20240706
SUMMARY:Summer Break
UID:13756202-b3a3-4875-85fb-d572c939c196
END:VEVENT
BEGIN:VEVENT
DTSTART;VALUE=DATE:20250630
DTEND;VALUE=DATE:20250705
SUMMARY:Summer Break
UID:f629b82d-1971-4d01-8967-17efcc944f86
END:VEVENT
BEGIN:VEVENT
DTSTART;VALUE=DATE:20260629
DTEND;VALUE=DATE:20260704
SUMMARY:Summer Break
UID:55eaacbd-4615-4180-affe-93387ca558f6
END:VEVENT
BEGIN:VEVENT
DTSTART;VALUE=DATE:20270705
DTEND;VALUE=DATE:20270710
SUMMARY:Summer Break
UID:727f0322-c066-426a-a857-02189c8b2b5e
END:VEVENT
BEGIN:VEVENT
DTSTART;VALUE=DATE:20280703
DTEND;VALUE=DATE:20280708
SUMMARY:Summer Break
UID:16d3c183-79c6-4759-ac75-490c4eb4e976
END:VEVENT
BEGIN:VEVENT
DTSTART;VALUE=DATE:20290702
DTEND;VALUE=DATE:20290707
SUMMARY:Summer Break
UID:1081c80a-cbc7-4d55-b7cc-0e3ad673db5c
END:VEVENT
BEGIN:VEVENT
DTSTART;VALUE=DATE:20300701
DTEND;VALUE=DATE:20300706
SUMMARY:Summer Break
UID:c7a91ded-c29e-490a-87bb-2715a995002d
END:VEVENT
BEGIN:VEVENT
DTSTART;VALUE=DATE:20310630
DTEND;VALUE=DATE:20310705
SUMMARY:Summer Break
UID:972443ac-76f9-44f2-9632-d48f746bcec3
END:VEVENT
BEGIN:VEVENT
DTSTART;VALUE=DATE:20320705
DTEND;VALUE=DATE:20320710
SUMMARY:Summer Break
UID:7227865b-fb03-4a29-968f-2c3e452650ab
END:VEVENT
BEGIN:VEVENT
DTSTART;VALUE=DATE:20330704
DTEND;VALUE=DATE:20330709
SUMMARY:Summer Break
UID:b2182f07-4b44-4b45-94ee-d454712a1a05
END:VEVENT
BEGIN:VEVENT
DTSTART;VALUE=DATE:20340703
DTEND;VALUE=DATE:20340708
SUMMARY:Summer Break
UID:613d92a9-a21b-41a0-93cf-2e747d7983c0
END:VEVENT
BEGIN:VEVENT
DTSTART;VALUE=DATE:20350702
DTEND;VALUE=DATE:20350707
SUMMARY:Summer Break
UID:142d0736-ebd3-40bd-b43c-6f821d2036ee
END:VEVENT
BEGIN:VEVENT
DTSTART;VALUE=DATE:20231226
DTEND;VALUE=DATE:20231231
SUMMARY:Winter Break
UID:59715d92-8bc4-40cc-bd57-c2065d101e81
END:VEVENT
BEGIN:VEVENT
DTSTART;VALUE=DATE:20241226
DTEND;VALUE=DATE:20241231
SUMMARY:Winter Break
UID:900b3024-39ee-4554-b6a2-cc57f735490f
END:VEVENT
BEGIN:VEVENT
DTSTART;VALUE=DATE:20251226
DTEND;VALUE=DATE:20251231
SUMMARY:Winter Break
UID:16303619-cb30-4862-a119-ecdfaff0173e
END:VEVENT
BEGIN:VEVENT
DTSTART;VALUE=DATE:20261226
DTEND;VALUE=DATE:20261231
SUMMARY:Winter Break
UID:b97706f6-a8bc-4c01-af03-fbc34e456c39
END:VEVENT
BEGIN:VEVENT
DTSTART;VALUE=DATE:20271226
DTEND;VALUE=DATE:20271231
SUMMARY:Winter Break
UID:8bff713f-8f22-4a61-90da-549e3eb5cab6
END:VEVENT
BEGIN:VEVENT
DTSTART;VALUE=DATE:20281226
DTEND;VALUE=DATE:20281231
SUMMARY:Winter Break
UID:05e6a958-5b67-44de-a1e6-1d1841898746
END:VEVENT
BEGIN:VEVENT
DTSTART;VALUE=DATE:20291226
DTEND;VALUE=DATE:20291231
SUMMARY:Winter Break
UID:0ceda049-885b-491d-bc2e-919e06b248ea
END:VEVENT
BEGIN:VEVENT
DTSTART;VALUE=DATE:20301226
DTEND;VALUE=DATE:20301231
SUMMARY:Winter Break
UID:a1f726b8-bb23-4640-bf8a-73f6481551fb
END:VEVENT
BEGIN:VEVENT
DTSTART;VALUE=DATE:20311226
DTEND;VALUE=DATE:20311231
SUMMARY:Winter Break
UID:83b406ad-ad48-4d27-aa30-f6396b60d264
END:VEVENT
BEGIN:VEVENT
DTSTART;VALUE=DATE:20321226
DTEND;VALUE=DATE:20321231
SUMMARY:Winter Break
UID:b8d5a38e-090c-4d89-846a-d23c909d2889
END:VEVENT
BEGIN:VEVENT
DTSTART;VALUE=DATE:20331226
DTEND;VALUE=DATE:20331231
SUMMARY:Winter Break
UID:1d2723fe-4fe3-4d63-9a4d-7ef3095ef702
END:VEVENT
BEGIN:VEVENT
DTSTART;VALUE=DATE:20341226
DTEND;VALUE=DATE:20341231
SUMMARY:Winter Break
UID:b0430cb3-e35d-49fb-a2cb-7c3ea3a832ac
END:VEVENT
BEGIN:VEVENT
DTSTART;VALUE=DATE:20351226
DTEND;VALUE=DATE:20351231
SUMMARY:Winter Break
UID:0c7d55a5-160e-433e-b1ca-f1a0d182e1fd
END:VEVENT
BEGIN:VEVENT
DTSTART;VALUE=DATE:20260320
DTEND;VALUE=DATE:20260321
SUMMARY:Wellbeing Day
UID:ccaec4ef-2197-488e-a39b-032ab88e6a03
END:VEVENT
BEGIN:VEVENT
DTSTART;VALUE=DATE:20260629
DTEND;VALUE=DATE:20260630
SUMMARY:Wellbeing Day
UID:eb710ba4-1893-446b-a988-0f037f4debca
END:VEVENT
BEGIN:VEVENT
DTSTART;VALUE=DATE:20260821
DTEND;VALUE=DATE:20260822
SUMMARY:Wellbeing Day
UID:e82da58f-7574-4a5e-8078-d65b10e71188
END:VEVENT
BEGIN:VEVENT
DTSTART;VALUE=DATE:20261030
DTEND;VALUE=DATE:20261031
SUMMARY:Wellbeing Day
UID:4ef684fb-6343-4550-a925-d83e96dcb87d
END:VEVENT
END:VCALENDAR
